BEGIN:VCALENDAR
VERSION:2.0
PRODID:-//Fanfare - ECPv6.15.3//NONSGML v1.0//EN
CALSCALE:GREGORIAN
METHOD:PUBLISH
X-ORIGINAL-URL:https://fanfareband.com
X-WR-CALDESC:Events for Fanfare
REFRESH-INTERVAL;VALUE=DURATION:PT1H
X-Robots-Tag:noindex
X-PUBLISHED-TTL:PT1H
BEGIN:VTIMEZONE
TZID:America/Chicago
BEGIN:DAYLIGHT
TZOFFSETFROM:-0600
TZOFFSETTO:-0500
TZNAME:CDT
DTSTART:20260308T080000
END:DAYLIGHT
BEGIN:STANDARD
TZOFFSETFROM:-0500
TZOFFSETTO:-0600
TZNAME:CST
DTSTART:20261101T070000
END:STANDARD
END:VTIMEZONE
BEGIN:VEVENT
DTSTART;TZID=America/Chicago:20260711T183000
DTEND;TZID=America/Chicago:20260912T210000
DTSTAMP:20260424T164615
CREATED:20260216T170552Z
LAST-MODIFIED:20260216T170552Z
UID:5233-1783794600-1789246800@fanfareband.com
SUMMARY:Missouri Botanical Garden
DESCRIPTION:The Art of Hybycozo and Fanfare!
URL:https://fanfareband.com/event/missouri-botanical-garden-9/
LOCATION:Missouri Botanical Gardens\, St. Louis\, MO\, United States
END:VEVENT
BEGIN:VEVENT
DTSTART;TZID=America/Chicago:20260802T130000
DTEND;TZID=America/Chicago:20260802T160000
DTSTAMP:20260424T164615
CREATED:20260110T203924Z
LAST-MODIFIED:20260110T203924Z
UID:5172-1785675600-1785686400@fanfareband.com
SUMMARY:Montelle Winery
DESCRIPTION:Wine and Music with a view.
URL:https://fanfareband.com/event/montelle-winery-32/
LOCATION:Montelle Winery\, 201 Montelle Dr.\, Augusta\, MO\, 63332\, United States
END:VEVENT
BEGIN:VEVENT
DTSTART;TZID=America/Chicago:20260809T130000
DTEND;TZID=America/Chicago:20260809T160000
DTSTAMP:20260424T164615
CREATED:20260110T204101Z
LAST-MODIFIED:20260110T204101Z
UID:5174-1786280400-1786291200@fanfareband.com
SUMMARY:Defiance Ridge Vineyards
DESCRIPTION:Wine\, Food\, Music
URL:https://fanfareband.com/event/defiance-ridge-vineyards-5/
LOCATION:Defiance Ridge Vineyards\, 2711 South Hwy. 94\, Defiance\, MO\, 63341\, United States
END:VEVENT
BEGIN:VEVENT
DTSTART;TZID=America/Chicago:20260822T183000
DTEND;TZID=America/Chicago:20260822T210000
DTSTAMP:20260424T164615
CREATED:20260216T170739Z
LAST-MODIFIED:20260216T170739Z
UID:5235-1787423400-1787432400@fanfareband.com
SUMMARY:Missouri Botanical Gardens
DESCRIPTION:The Art of Hybycozo and Fanfare!
URL:https://fanfareband.com/event/missouri-botanical-gardens-3/
LOCATION:Missouri Botanical Gardens\, St. Louis\, MO\, United States
END:VEVENT
BEGIN:VEVENT
DTSTART;TZID=America/Chicago:20260829T140000
DTEND;TZID=America/Chicago:20260829T170000
DTSTAMP:20260424T164615
CREATED:20260110T204239Z
LAST-MODIFIED:20260110T204239Z
UID:5176-1788012000-1788022800@fanfareband.com
SUMMARY:Balducci's Vineyards
DESCRIPTION:Wine Food and Music
URL:https://fanfareband.com/event/balduccis-vineyards-37/
LOCATION:Balducci Vineyards\, 6601 Missouri 94\, Augusta\, 63332
END:VEVENT
END:VCALENDAR