BEGIN:VCALENDAR
VERSION:2.0
PRODID:-//Fanfare - ECPv6.15.3//NONSGML v1.0//EN
CALSCALE:GREGORIAN
METHOD:PUBLISH
X-ORIGINAL-URL:https://fanfareband.com
X-WR-CALDESC:Events for Fanfare
REFRESH-INTERVAL;VALUE=DURATION:PT1H
X-Robots-Tag:noindex
X-PUBLISHED-TTL:PT1H
BEGIN:VTIMEZONE
TZID:America/Chicago
BEGIN:DAYLIGHT
TZOFFSETFROM:-0600
TZOFFSETTO:-0500
TZNAME:CDT
DTSTART:20260308T080000
END:DAYLIGHT
BEGIN:STANDARD
TZOFFSETFROM:-0500
TZOFFSETTO:-0600
TZNAME:CST
DTSTART:20261101T070000
END:STANDARD
END:VTIMEZONE
BEGIN:VEVENT
DTSTART;TZID=America/Chicago:20260501T183000
DTEND;TZID=America/Chicago:20260501T213000
DTSTAMP:20260424T112641
CREATED:20260108T223512Z
LAST-MODIFIED:20260108T223512Z
UID:5132-1777660200-1777671000@fanfareband.com
SUMMARY:Union MO
DESCRIPTION:Park Concert
URL:https://fanfareband.com/event/union-mo-2/
LOCATION:City Park of Union MO\, Union\, MO\, 63084\, United States
END:VEVENT
BEGIN:VEVENT
DTSTART;TZID=America/Chicago:20260502T100000
DTEND;TZID=America/Chicago:20260502T113000
DTSTAMP:20260424T112641
CREATED:20260201T175247Z
LAST-MODIFIED:20260201T175247Z
UID:5207-1777716000-1777721400@fanfareband.com
SUMMARY:Florissant MO Concert
DESCRIPTION:Valley of the Flowers event in Florissant MO
URL:https://fanfareband.com/event/florissant-mo-concert/
LOCATION:Florissant Eagan Center\, Florissant \, MO\, United States
END:VEVENT
BEGIN:VEVENT
DTSTART;TZID=America/Chicago:20260508T190000
DTEND;TZID=America/Chicago:20260508T203000
DTSTAMP:20260424T112641
CREATED:20260108T223646Z
LAST-MODIFIED:20260108T223646Z
UID:5134-1778266800-1778272200@fanfareband.com
SUMMARY:Bellevue Park Concert
DESCRIPTION:Park Concert
URL:https://fanfareband.com/event/bellevue-park-concert/
LOCATION:Bellevue Park\, Belleville\, IL\, United States
END:VEVENT
BEGIN:VEVENT
DTSTART;TZID=America/Chicago:20260509T180000
DTEND;TZID=America/Chicago:20260509T220000
DTSTAMP:20260424T112641
CREATED:20260322T202634Z
LAST-MODIFIED:20260322T202634Z
UID:5247-1778349600-1778364000@fanfareband.com
SUMMARY:Private Party
DESCRIPTION:Birthday Party
URL:https://fanfareband.com/event/private-party-227/
LOCATION:Four Season Hotel St. Louis\, St. Louis\, MO\, United States
END:VEVENT
BEGIN:VEVENT
DTSTART;TZID=America/Chicago:20260510T130000
DTEND;TZID=America/Chicago:20260510T160000
DTSTAMP:20260424T112641
CREATED:20260108T223823Z
LAST-MODIFIED:20260108T223823Z
UID:5136-1778418000-1778428800@fanfareband.com
SUMMARY:Montelle Winery
DESCRIPTION:Wine with a view for Mothers Day!
URL:https://fanfareband.com/event/montelle-winery-30/
LOCATION:Montelle Winery\, 201 Montelle Dr.\, Augusta\, MO\, 63332\, United States
END:VEVENT
BEGIN:VEVENT
DTSTART;TZID=America/Chicago:20260514T130000
DTEND;TZID=America/Chicago:20260514T150000
DTSTAMP:20260424T112641
CREATED:20260407T210901Z
LAST-MODIFIED:20260407T210901Z
UID:5262-1778763600-1778770800@fanfareband.com
SUMMARY:Scenic View Rehab Center
DESCRIPTION:Spring Concert
URL:https://fanfareband.com/event/scenic-view-rehab-center-3/
LOCATION:Scenic View Rehabitation\, 1333 Scenic Dr.\, Herculaneum\, MO\, United States
END:VEVENT
BEGIN:VEVENT
DTSTART;TZID=America/Chicago:20260516T140000
DTEND;TZID=America/Chicago:20260516T170000
DTSTAMP:20260424T112641
CREATED:20260108T223935Z
LAST-MODIFIED:20260108T223935Z
UID:5138-1778940000-1778950800@fanfareband.com
SUMMARY:Balducci's
DESCRIPTION:Wine and Great Pizza!
URL:https://fanfareband.com/event/balduccis/
LOCATION:Balducci Vineyards\, 6601 Missouri 94\, Augusta\, 63332
END:VEVENT
BEGIN:VEVENT
DTSTART;TZID=America/Chicago:20260522T183000
DTEND;TZID=America/Chicago:20260522T210000
DTSTAMP:20260424T112641
CREATED:20260216T170146Z
LAST-MODIFIED:20260216T170146Z
UID:5229-1779474600-1779483600@fanfareband.com
SUMMARY:Missouri Botanical Garden
DESCRIPTION:The Art of Hybycozo and Fanfare
URL:https://fanfareband.com/event/missouri-botanical-garden-8/
LOCATION:Missouri Botanical Gardens\, St. Louis\, MO\, United States
END:VEVENT
BEGIN:VEVENT
DTSTART;TZID=America/Chicago:20260524T180000
DTEND;TZID=America/Chicago:20260524T200000
DTSTAMP:20260424T112641
CREATED:20260210T130444Z
LAST-MODIFIED:20260210T130444Z
UID:5225-1779645600-1779652800@fanfareband.com
SUMMARY:Lindenwood Park
DESCRIPTION:Park concert!
URL:https://fanfareband.com/event/lindenwood-park-2/
LOCATION:Lindenwood Park\, Jamieson Ave.\, St. Louis\, MO\, 63109\, United States
END:VEVENT
BEGIN:VEVENT
DTSTART;TZID=America/Chicago:20260525T140000
DTEND;TZID=America/Chicago:20260525T160000
DTSTAMP:20260424T112641
CREATED:20260303T221839Z
LAST-MODIFIED:20260303T221839Z
UID:5240-1779717600-1779724800@fanfareband.com
SUMMARY:The Gatesworth
DESCRIPTION:Memorial Day Party
URL:https://fanfareband.com/event/the-gatesworth-34/
LOCATION:The Gatesworth
END:VEVENT
END:VCALENDAR