BEGIN:VCALENDAR
VERSION:2.0
PRODID:-//Fanfare - ECPv6.15.3//NONSGML v1.0//EN
CALSCALE:GREGORIAN
METHOD:PUBLISH
X-WR-CALNAME:Fanfare
X-ORIGINAL-URL:https://fanfareband.com
X-WR-CALDESC:Events for Fanfare
REFRESH-INTERVAL;VALUE=DURATION:PT1H
X-Robots-Tag:noindex
X-PUBLISHED-TTL:PT1H
BEGIN:VTIMEZONE
TZID:America/Chicago
BEGIN:DAYLIGHT
TZOFFSETFROM:-0600
TZOFFSETTO:-0500
TZNAME:CDT
DTSTART:20260308T080000
END:DAYLIGHT
BEGIN:STANDARD
TZOFFSETFROM:-0500
TZOFFSETTO:-0600
TZNAME:CST
DTSTART:20261101T070000
END:STANDARD
END:VTIMEZONE
BEGIN:VEVENT
DTSTART;TZID=America/Chicago:20260207T173000
DTEND;TZID=America/Chicago:20260207T223000
DTSTAMP:20260424T131016
CREATED:20260108T222417Z
LAST-MODIFIED:20260108T222417Z
UID:5118-1770485400-1770503400@fanfareband.com
SUMMARY:Provident Health Party
DESCRIPTION:Fund Raiser!
URL:https://fanfareband.com/event/provident-health-party/
LOCATION:The Chase Park Plaza\, 212 Kingshighway\, St. Louis\, MO\, 63103\, United States
END:VEVENT
BEGIN:VEVENT
DTSTART;TZID=America/Chicago:20260217T170000
DTEND;TZID=America/Chicago:20260217T200000
DTSTAMP:20260424T131016
CREATED:20260210T130154Z
LAST-MODIFIED:20260210T130154Z
UID:5223-1771347600-1771358400@fanfareband.com
SUMMARY:Whitmoor Country Club
DESCRIPTION:Private Party
URL:https://fanfareband.com/event/whitmoor-country-club-2/
LOCATION:Whitmoor Country Club\, 1100 Whitmoor Drive\, St. Charles\, MO\, 63304\, United States
END:VEVENT
BEGIN:VEVENT
DTSTART;TZID=America/Chicago:20260220T140000
DTEND;TZID=America/Chicago:20260220T153000
DTSTAMP:20260424T131016
CREATED:20260108T222617Z
LAST-MODIFIED:20260108T222617Z
UID:5120-1771596000-1771601400@fanfareband.com
SUMMARY:Lusher Elementary School
DESCRIPTION:Musical History Tour
URL:https://fanfareband.com/event/lusher-elementary-school-3/
LOCATION:Lusher Elementary School\, St. Louis\, MO\, United States
END:VEVENT
BEGIN:VEVENT
DTSTART;TZID=America/Chicago:20260222T160000
DTEND;TZID=America/Chicago:20260222T160000
DTSTAMP:20260424T131016
CREATED:20260108T222757Z
LAST-MODIFIED:20260108T222757Z
UID:5122-1771776000-1771776000@fanfareband.com
SUMMARY:Wright City Library
DESCRIPTION:Winter Concert
URL:https://fanfareband.com/event/wright-city-library/
LOCATION:Wright City Scenic Regional Library\, 60 Wild Cat Drive\, Wright City\, MO\, United States
END:VEVENT
BEGIN:VEVENT
DTSTART;TZID=America/Chicago:20260228T140000
DTEND;TZID=America/Chicago:20260228T170000
DTSTAMP:20260424T131017
CREATED:20260108T222902Z
LAST-MODIFIED:20260108T222902Z
UID:5124-1772287200-1772298000@fanfareband.com
SUMMARY:Copper Fire
DESCRIPTION:Food & Music
URL:https://fanfareband.com/event/copper-fire-3/
LOCATION:Copper Fire\, Belleville\, IL\, United States
END:VEVENT
END:VCALENDAR