BEGIN:VCALENDAR
VERSION:2.0
PRODID:-//Fanfare - ECPv6.15.3//NONSGML v1.0//EN
CALSCALE:GREGORIAN
METHOD:PUBLISH
X-WR-CALNAME:Fanfare
X-ORIGINAL-URL:https://fanfareband.com
X-WR-CALDESC:Events for Fanfare
REFRESH-INTERVAL;VALUE=DURATION:PT1H
X-Robots-Tag:noindex
X-PUBLISHED-TTL:PT1H
BEGIN:VTIMEZONE
TZID:America/Chicago
BEGIN:DAYLIGHT
TZOFFSETFROM:-0600
TZOFFSETTO:-0500
TZNAME:CDT
DTSTART:20260308T080000
END:DAYLIGHT
BEGIN:STANDARD
TZOFFSETFROM:-0500
TZOFFSETTO:-0600
TZNAME:CST
DTSTART:20261101T070000
END:STANDARD
END:VTIMEZONE
BEGIN:VEVENT
DTSTART;TZID=America/Chicago:20260115T184500
DTEND;TZID=America/Chicago:20260115T194500
DTSTAMP:20260424T145800
CREATED:20260108T222043Z
LAST-MODIFIED:20260108T222043Z
UID:5113-1768502700-1768506300@fanfareband.com
SUMMARY:Private Party
DESCRIPTION:Winter Dance!
URL:https://fanfareband.com/event/private-party-225/
LOCATION:Friendship Village Sunset Hills\, Sunset Hills\, MO\, United States
END:VEVENT
BEGIN:VEVENT
DTSTART;TZID=America/Chicago:20260123T190000
DTEND;TZID=America/Chicago:20260123T220000
DTSTAMP:20260424T145800
CREATED:20251117T215057Z
LAST-MODIFIED:20251117T215057Z
UID:5107-1769194800-1769205600@fanfareband.com
SUMMARY:The Shriners
DESCRIPTION:Open Dance!
URL:https://fanfareband.com/event/the-shriners-7/
LOCATION:Moolah Shrine Center\, 12545 Fee Fee Road\, St. Louis\, MO\, 63146\, United States
END:VEVENT
BEGIN:VEVENT
DTSTART;TZID=America/Chicago:20260123T190000
DTEND;TZID=America/Chicago:20260123T220000
DTSTAMP:20260424T145800
CREATED:20260108T222208Z
LAST-MODIFIED:20260108T222208Z
UID:5116-1769194800-1769205600@fanfareband.com
SUMMARY:Shriners
DESCRIPTION:Dance For The Kids!
URL:https://fanfareband.com/event/shriners-11/
LOCATION:Moolah Shrine Center\, 12545 Fee Fee Road\, St. Louis\, MO\, 63146\, United States
END:VEVENT
END:VCALENDAR