BEGIN:VCALENDAR
VERSION:2.0
PRODID:-//Fanfare - ECPv6.15.3//NONSGML v1.0//EN
CALSCALE:GREGORIAN
METHOD:PUBLISH
X-WR-CALNAME:Fanfare
X-ORIGINAL-URL:https://fanfareband.com
X-WR-CALDESC:Events for Fanfare
REFRESH-INTERVAL;VALUE=DURATION:PT1H
X-Robots-Tag:noindex
X-PUBLISHED-TTL:PT1H
BEGIN:VTIMEZONE
TZID:America/Chicago
BEGIN:DAYLIGHT
TZOFFSETFROM:-0600
TZOFFSETTO:-0500
TZNAME:CDT
DTSTART:20250309T080000
END:DAYLIGHT
BEGIN:STANDARD
TZOFFSETFROM:-0500
TZOFFSETTO:-0600
TZNAME:CST
DTSTART:20251102T070000
END:STANDARD
END:VTIMEZONE
BEGIN:VEVENT
DTSTART;TZID=America/Chicago:20251101T130000
DTEND;TZID=America/Chicago:20251101T160000
DTSTAMP:20260424T182800
CREATED:20250804T193142Z
LAST-MODIFIED:20250804T193142Z
UID:5071-1762002000-1762012800@fanfareband.com
SUMMARY:Montelle Winery
DESCRIPTION:Wine time.
URL:https://fanfareband.com/event/montelle-winery-29/
LOCATION:Montelle Winery\, 201 Montelle Dr.\, Augusta\, MO\, 63332\, United States
END:VEVENT
BEGIN:VEVENT
DTSTART;TZID=America/Chicago:20251115T190000
DTEND;TZID=America/Chicago:20251115T220000
DTSTAMP:20260424T182800
CREATED:20250804T193358Z
LAST-MODIFIED:20250804T193358Z
UID:5073-1763233200-1763244000@fanfareband.com
SUMMARY:Lake St. Louis Community Center
DESCRIPTION:Food and dance.
URL:https://fanfareband.com/event/lake-st-louis-community-center-7/
LOCATION:Lake St. Louis Community Center\, United States
END:VEVENT
END:VCALENDAR