BEGIN:VCALENDAR
VERSION:2.0
PRODID:-//Fanfare - ECPv6.15.3//NONSGML v1.0//EN
CALSCALE:GREGORIAN
METHOD:PUBLISH
X-WR-CALNAME:Fanfare
X-ORIGINAL-URL:https://fanfareband.com
X-WR-CALDESC:Events for Fanfare
REFRESH-INTERVAL;VALUE=DURATION:PT1H
X-Robots-Tag:noindex
X-PUBLISHED-TTL:PT1H
BEGIN:VTIMEZONE
TZID:America/Chicago
BEGIN:DAYLIGHT
TZOFFSETFROM:-0600
TZOFFSETTO:-0500
TZNAME:CDT
DTSTART:20250309T080000
END:DAYLIGHT
BEGIN:STANDARD
TZOFFSETFROM:-0500
TZOFFSETTO:-0600
TZNAME:CST
DTSTART:20251102T070000
END:STANDARD
END:VTIMEZONE
BEGIN:VEVENT
DTSTART;TZID=America/Chicago:20251003T180000
DTEND;TZID=America/Chicago:20251003T200000
DTSTAMP:20260424T200042
CREATED:20250917T190249Z
LAST-MODIFIED:20250917T190249Z
UID:5089-1759514400-1759521600@fanfareband.com
SUMMARY:City of Frontenac
DESCRIPTION:Family Festival
URL:https://fanfareband.com/event/city-of-frontenac/
LOCATION:City of Frontenac\, 10555 Clayton Road\, Frontenac\, MO\, 63131\, United States
END:VEVENT
BEGIN:VEVENT
DTSTART;TZID=America/Chicago:20251004T120000
DTEND;TZID=America/Chicago:20251004T143000
DTSTAMP:20260424T200042
CREATED:20250318T214520Z
LAST-MODIFIED:20250318T214520Z
UID:4984-1759579200-1759588200@fanfareband.com
SUMMARY:Innsbrook MO
DESCRIPTION:Fall Festival
URL:https://fanfareband.com/event/innsbrook-mo/
LOCATION:Innsbrook Conference Center\, 1 Aspen Circle\, Innsbrook\, MO\, 63390\, United States
END:VEVENT
BEGIN:VEVENT
DTSTART;TZID=America/Chicago:20251007T173000
DTEND;TZID=America/Chicago:20251007T193000
DTSTAMP:20260424T200042
CREATED:20250429T192017Z
LAST-MODIFIED:20250429T192017Z
UID:5027-1759858200-1759865400@fanfareband.com
SUMMARY:Private Party
DESCRIPTION:HMS Financial Party
URL:https://fanfareband.com/event/private-party-213/
LOCATION:Double Tree Chesterfield\, Chesterfield\, MO\, United States
END:VEVENT
BEGIN:VEVENT
DTSTART;TZID=America/Chicago:20251010T190000
DTEND;TZID=America/Chicago:20251010T220000
DTSTAMP:20260424T200042
CREATED:20250318T214623Z
LAST-MODIFIED:20250318T214623Z
UID:4986-1760122800-1760133600@fanfareband.com
SUMMARY:Shriners
DESCRIPTION:Open Dance!
URL:https://fanfareband.com/event/shriners-10/
LOCATION:Moolah Shrine Center\, 12545 Fee Fee Road\, St. Louis\, MO\, 63146\, United States
END:VEVENT
BEGIN:VEVENT
DTSTART;TZID=America/Chicago:20251011T170000
DTEND;TZID=America/Chicago:20251011T190000
DTSTAMP:20260424T200042
CREATED:20250318T214739Z
LAST-MODIFIED:20250318T214739Z
UID:4988-1760202000-1760209200@fanfareband.com
SUMMARY:St. Gabriel's Catholic Church!
DESCRIPTION:Church Picnic!
URL:https://fanfareband.com/event/st-gabriels-catholic-church-2/
LOCATION:St. Gabriel Catholic Church\, 6303 Nottingham Ave.\, St. Louis\, MO\, 63109\, United States
END:VEVENT
BEGIN:VEVENT
DTSTART;TZID=America/Chicago:20251017T210000
DTEND;TZID=America/Chicago:20251017T220000
DTSTAMP:20260424T200042
CREATED:20250804T193024Z
LAST-MODIFIED:20250804T193024Z
UID:5068-1760734800-1760738400@fanfareband.com
SUMMARY:Springboard to Learning
DESCRIPTION:Fundraiser.
URL:https://fanfareband.com/event/springboard-to-learning/
LOCATION:River City Casino\, St. Louis\, MO\, United States
END:VEVENT
BEGIN:VEVENT
DTSTART;TZID=America/Chicago:20251018T180000
DTEND;TZID=America/Chicago:20251018T200000
DTSTAMP:20260424T200042
CREATED:20250828T211625Z
LAST-MODIFIED:20250828T211718Z
UID:5084-1760810400-1760817600@fanfareband.com
SUMMARY:5800 Delor Street Block Party Private
DESCRIPTION:Private Block Party
URL:https://fanfareband.com/event/5800-delor-street-block-party/
LOCATION:5800 Delor Street\, St. Louis\, 63109\, United States
END:VEVENT
BEGIN:VEVENT
DTSTART;TZID=America/Chicago:20251023T103000
DTEND;TZID=America/Chicago:20251023T130000
DTSTAMP:20260424T200042
CREATED:20250409T144739Z
LAST-MODIFIED:20250409T144739Z
UID:5004-1761215400-1761224400@fanfareband.com
SUMMARY:City of Florissant
DESCRIPTION:Seniors Fall Festival
URL:https://fanfareband.com/event/city-of-florissant/
LOCATION:JFK Community Center\, 315 Howdershell Rd.\, Florissant\, MO\, 63031\, United States
END:VEVENT
BEGIN:VEVENT
DTSTART;TZID=America/Chicago:20251025T130000
DTEND;TZID=America/Chicago:20251025T170000
DTSTAMP:20260424T200042
CREATED:20250409T144946Z
LAST-MODIFIED:20250409T144946Z
UID:5007-1761397200-1761411600@fanfareband.com
SUMMARY:Stone Hill Winery
DESCRIPTION:Wine Time in Herman MO
URL:https://fanfareband.com/event/stone-hill-winery/
LOCATION:Stone Hill Winery\, Herman\, MO\, United States
END:VEVENT
END:VCALENDAR