BEGIN:VCALENDAR
VERSION:2.0
PRODID:-//Fanfare - ECPv6.15.3//NONSGML v1.0//EN
CALSCALE:GREGORIAN
METHOD:PUBLISH
X-ORIGINAL-URL:https://fanfareband.com
X-WR-CALDESC:Events for Fanfare
REFRESH-INTERVAL;VALUE=DURATION:PT1H
X-Robots-Tag:noindex
X-PUBLISHED-TTL:PT1H
BEGIN:VTIMEZONE
TZID:America/Chicago
BEGIN:DAYLIGHT
TZOFFSETFROM:-0600
TZOFFSETTO:-0500
TZNAME:CDT
DTSTART:20250309T080000
END:DAYLIGHT
BEGIN:STANDARD
TZOFFSETFROM:-0500
TZOFFSETTO:-0600
TZNAME:CST
DTSTART:20251102T070000
END:STANDARD
END:VTIMEZONE
BEGIN:VEVENT
DTSTART;TZID=America/Chicago:20250802T190000
DTEND;TZID=America/Chicago:20250802T220000
DTSTAMP:20260424T223434
CREATED:20250703T011739Z
LAST-MODIFIED:20250703T011739Z
UID:5062-1754161200-1754172000@fanfareband.com
SUMMARY:Piccadilly Par 1
DESCRIPTION:Food Music\, Golf\, Roller Skating
URL:https://fanfareband.com/event/piccadilly-par-1-2/
LOCATION:Piccadilly Par 1\, 151 Audrey Lane\, Union\, MO\, United States
END:VEVENT
BEGIN:VEVENT
DTSTART;TZID=America/Chicago:20250803T190000
DTEND;TZID=America/Chicago:20250803T230000
DTSTAMP:20260424T223434
CREATED:20250318T212216Z
LAST-MODIFIED:20250318T212216Z
UID:4961-1754247600-1754262000@fanfareband.com
SUMMARY:Private Party
DESCRIPTION:Wedding Anniversary
URL:https://fanfareband.com/event/private-party-212/
LOCATION:The Chase Park Plaza\, 212 Kingshighway\, St. Louis\, MO\, 63103\, United States
END:VEVENT
BEGIN:VEVENT
DTSTART;TZID=America/Chicago:20250805T143000
DTEND;TZID=America/Chicago:20250805T153000
DTSTAMP:20260424T223434
CREATED:20250624T201145Z
LAST-MODIFIED:20250624T201145Z
UID:5052-1754404200-1754407800@fanfareband.com
SUMMARY:Private Party
DESCRIPTION:Fairwinds Rivers Edge
URL:https://fanfareband.com/event/private-party-215/
LOCATION:Fairwinds Riversedge
END:VEVENT
BEGIN:VEVENT
DTSTART;TZID=America/Chicago:20250806T190000
DTEND;TZID=America/Chicago:20250806T203000
DTSTAMP:20260424T223434
CREATED:20250429T191005Z
LAST-MODIFIED:20250429T191018Z
UID:5018-1754506800-1754512200@fanfareband.com
SUMMARY:Shiloh IL
DESCRIPTION:Park Concert
URL:https://fanfareband.com/event/shiloh-il/
LOCATION:Shiloh IL\, Shiloh\, IL\, United States
END:VEVENT
BEGIN:VEVENT
DTSTART;TZID=America/Chicago:20250809T140000
DTEND;TZID=America/Chicago:20250809T170000
DTSTAMP:20260424T223434
CREATED:20250528T161433Z
LAST-MODIFIED:20250528T161433Z
UID:5040-1754748000-1754758800@fanfareband.com
SUMMARY:Copper Fire
DESCRIPTION:Food Music & Fun in Belleville IL Downtown!
URL:https://fanfareband.com/event/copper-fire/
LOCATION:Copper Fire\, Belleville\, IL\, United States
END:VEVENT
BEGIN:VEVENT
DTSTART;TZID=America/Chicago:20250810T130000
DTEND;TZID=America/Chicago:20250810T160000
DTSTAMP:20260424T223434
CREATED:20250318T212439Z
LAST-MODIFIED:20250318T212439Z
UID:4963-1754830800-1754841600@fanfareband.com
SUMMARY:Defiance Ridge Vineyards
DESCRIPTION:Wine and Dancing!
URL:https://fanfareband.com/event/defiance-ridge-vineyards-4/
LOCATION:Defiance Ridge Vineyards\, 2711 South Hwy. 94\, Defiance\, MO\, 63341\, United States
END:VEVENT
BEGIN:VEVENT
DTSTART;TZID=America/Chicago:20250814T183000
DTEND;TZID=America/Chicago:20250814T203000
DTSTAMP:20260424T223434
CREATED:20250318T212756Z
LAST-MODIFIED:20250318T212756Z
UID:4965-1755196200-1755203400@fanfareband.com
SUMMARY:Millennium Park
DESCRIPTION:Park Concert
URL:https://fanfareband.com/event/millennium-park/
LOCATION:Millennium Park\, Creve Coeur\, MO\, United States
END:VEVENT
BEGIN:VEVENT
DTSTART;TZID=America/Chicago:20250815T193000
DTEND;TZID=America/Chicago:20250815T203000
DTSTAMP:20260424T223434
CREATED:20250624T201727Z
LAST-MODIFIED:20250624T201727Z
UID:5056-1755286200-1755289800@fanfareband.com
SUMMARY:Private Party
DESCRIPTION:The Gatesworth Concert
URL:https://fanfareband.com/event/private-party-216/
LOCATION:The Gatesworth
END:VEVENT
BEGIN:VEVENT
DTSTART;TZID=America/Chicago:20250822T173000
DTEND;TZID=America/Chicago:20250822T203000
DTSTAMP:20260424T223434
CREATED:20250624T201340Z
LAST-MODIFIED:20250624T201340Z
UID:5054-1755883800-1755894600@fanfareband.com
SUMMARY:Triple 3 Winery
DESCRIPTION:Wine Time and good foood.
URL:https://fanfareband.com/event/triple-3-winery-6/
LOCATION:Triple 3 Winery
END:VEVENT
BEGIN:VEVENT
DTSTART;TZID=America/Chicago:20250824T170000
DTEND;TZID=America/Chicago:20250824T190000
DTSTAMP:20260424T223434
CREATED:20250318T212912Z
LAST-MODIFIED:20250318T212912Z
UID:4968-1756054800-1756062000@fanfareband.com
SUMMARY:Oak Knoll Park
DESCRIPTION:Park Concert
URL:https://fanfareband.com/event/oak-knoll-park-3/
LOCATION:Oak Knoll Park\, Clayton Rd. & Big Bend\, Clayton\, MO\, 63105\, United States
END:VEVENT
BEGIN:VEVENT
DTSTART;TZID=America/Chicago:20250831T183000
DTEND;TZID=America/Chicago:20250831T203000
DTSTAMP:20260424T223434
CREATED:20250409T144109Z
LAST-MODIFIED:20250409T144109Z
UID:5001-1756665000-1756672200@fanfareband.com
SUMMARY:Delor Street Block Party
DESCRIPTION:Guest Only!
URL:https://fanfareband.com/event/delor-street-block-party-6/
LOCATION:6200 Delor Street\, St. Louis\, MO\, 63109\, United States
END:VEVENT
END:VCALENDAR