BEGIN:VCALENDAR
VERSION:2.0
PRODID:-//Fanfare - ECPv6.15.3//NONSGML v1.0//EN
CALSCALE:GREGORIAN
METHOD:PUBLISH
X-WR-CALNAME:Fanfare
X-ORIGINAL-URL:https://fanfareband.com
X-WR-CALDESC:Events for Fanfare
REFRESH-INTERVAL;VALUE=DURATION:PT1H
X-Robots-Tag:noindex
X-PUBLISHED-TTL:PT1H
BEGIN:VTIMEZONE
TZID:America/Chicago
BEGIN:DAYLIGHT
TZOFFSETFROM:-0600
TZOFFSETTO:-0500
TZNAME:CDT
DTSTART:20250309T080000
END:DAYLIGHT
BEGIN:STANDARD
TZOFFSETFROM:-0500
TZOFFSETTO:-0600
TZNAME:CST
DTSTART:20251102T070000
END:STANDARD
END:VTIMEZONE
BEGIN:VEVENT
DTSTART;TZID=America/Chicago:20250208T173000
DTEND;TZID=America/Chicago:20250208T223000
DTSTAMP:20260425T075546
CREATED:20241116T215232Z
LAST-MODIFIED:20241116T215232Z
UID:4852-1739035800-1739053800@fanfareband.com
SUMMARY:Providence Health Gala
DESCRIPTION:Fundraiser & Dinner Dance
URL:https://fanfareband.com/event/providence-health-gala/
LOCATION:The Chase Park Plaza\, 212 Kingshighway\, St. Louis\, MO\, 63103\, United States
END:VEVENT
BEGIN:VEVENT
DTSTART;TZID=America/Chicago:20250220T193000
DTEND;TZID=America/Chicago:20250220T203000
DTSTAMP:20260425T075546
CREATED:20250212T214942Z
LAST-MODIFIED:20250212T214942Z
UID:4915-1740079800-1740083400@fanfareband.com
SUMMARY:Private Party
DESCRIPTION:Concert
URL:https://fanfareband.com/event/private-party-209/
LOCATION:The Gatesworth
END:VEVENT
END:VCALENDAR