BEGIN:VCALENDAR
VERSION:2.0
PRODID:-//Fanfare - ECPv6.15.3//NONSGML v1.0//EN
CALSCALE:GREGORIAN
METHOD:PUBLISH
X-WR-CALNAME:Fanfare
X-ORIGINAL-URL:https://fanfareband.com
X-WR-CALDESC:Events for Fanfare
REFRESH-INTERVAL;VALUE=DURATION:PT1H
X-Robots-Tag:noindex
X-PUBLISHED-TTL:PT1H
BEGIN:VTIMEZONE
TZID:America/Chicago
BEGIN:DAYLIGHT
TZOFFSETFROM:-0600
TZOFFSETTO:-0500
TZNAME:CDT
DTSTART:20250309T080000
END:DAYLIGHT
BEGIN:STANDARD
TZOFFSETFROM:-0500
TZOFFSETTO:-0600
TZNAME:CST
DTSTART:20251102T070000
END:STANDARD
END:VTIMEZONE
BEGIN:VEVENT
DTSTART;TZID=America/Chicago:20250124T190000
DTEND;TZID=America/Chicago:20250124T220000
DTSTAMP:20260425T092242
CREATED:20241116T214946Z
LAST-MODIFIED:20241116T214946Z
UID:4848-1737745200-1737756000@fanfareband.com
SUMMARY:Shriners Swing Dance Club
DESCRIPTION:Open Dance
URL:https://fanfareband.com/event/shriners-swing-dance-club/
LOCATION:Moolah Shrine Center\, 12545 Fee Fee Road\, St. Louis\, MO\, 63146\, United States
END:VEVENT
BEGIN:VEVENT
DTSTART;TZID=America/Chicago:20250131T090000
DTEND;TZID=America/Chicago:20250131T100000
DTSTAMP:20260425T092242
CREATED:20241116T215100Z
LAST-MODIFIED:20241116T215100Z
UID:4850-1738314000-1738317600@fanfareband.com
SUMMARY:Children's Concert
DESCRIPTION:Musical History Tour Concert
URL:https://fanfareband.com/event/childrens-concert/
LOCATION:St. Gabriel Catholic Church\, 6303 Nottingham Ave.\, St. Louis\, MO\, 63109\, United States
END:VEVENT
END:VCALENDAR