BEGIN:VCALENDAR
VERSION:2.0
PRODID:-//Fanfare - ECPv6.15.3//NONSGML v1.0//EN
CALSCALE:GREGORIAN
METHOD:PUBLISH
X-ORIGINAL-URL:https://fanfareband.com
X-WR-CALDESC:Events for Fanfare
REFRESH-INTERVAL;VALUE=DURATION:PT1H
X-Robots-Tag:noindex
X-PUBLISHED-TTL:PT1H
BEGIN:VTIMEZONE
TZID:America/Chicago
BEGIN:DAYLIGHT
TZOFFSETFROM:-0600
TZOFFSETTO:-0500
TZNAME:CDT
DTSTART:20240310T080000
END:DAYLIGHT
BEGIN:STANDARD
TZOFFSETFROM:-0500
TZOFFSETTO:-0600
TZNAME:CST
DTSTART:20241103T070000
END:STANDARD
END:VTIMEZONE
BEGIN:VEVENT
DTSTART;TZID=America/Chicago:20241102T130000
DTEND;TZID=America/Chicago:20241102T170000
DTSTAMP:20260425T121214
CREATED:20240122T212256Z
LAST-MODIFIED:20240122T212256Z
UID:4599-1730552400-1730566800@fanfareband.com
SUMMARY:Balducci's Vineyards
DESCRIPTION:Wine Time(DT)
URL:https://fanfareband.com/event/balduccis-vineyards-32/
LOCATION:Balducci Vineyards\, 6601 Missouri 94\, Augusta\, 63332
END:VEVENT
BEGIN:VEVENT
DTSTART;TZID=America/Chicago:20241109T130000
DTEND;TZID=America/Chicago:20241109T160000
DTSTAMP:20260425T121214
CREATED:20241011T181946Z
LAST-MODIFIED:20241026T195554Z
UID:4782-1731157200-1731168000@fanfareband.com
SUMMARY:Weingarten Vineyard
DESCRIPTION:Wine and Dancing
URL:https://fanfareband.com/event/weingarter-vineyard/
LOCATION:Weingarten Vineyard\, Rottler Ln.\, Ste. Genevieve\, MO\, 63670\, United States
END:VEVENT
BEGIN:VEVENT
DTSTART;TZID=America/Chicago:20241110T130000
DTEND;TZID=America/Chicago:20241110T160000
DTSTAMP:20260425T121214
CREATED:20240126T164333Z
LAST-MODIFIED:20240126T164333Z
UID:4617-1731243600-1731254400@fanfareband.com
SUMMARY:Cedar Lake Cellars
DESCRIPTION:Last wine time of the season(MS)
URL:https://fanfareband.com/event/cedar-lake-cellars-24/
LOCATION:Cedar Lake Cellars\, 11008 Schreckengast Rd.\, Wright City\, MO\, 63390\, United States
END:VEVENT
BEGIN:VEVENT
DTSTART;TZID=America/Chicago:20241130T190000
DTEND;TZID=America/Chicago:20241130T210000
DTSTAMP:20260425T121214
CREATED:20241116T212721Z
LAST-MODIFIED:20241116T212721Z
UID:4832-1732993200-1733000400@fanfareband.com
SUMMARY:Private Party
DESCRIPTION:Holiday Party.
URL:https://fanfareband.com/event/private-party-202/
LOCATION:Norwood Hills Country Club\, St. Louis \, MO\, United States
END:VEVENT
END:VCALENDAR