BEGIN:VCALENDAR
VERSION:2.0
PRODID:-//Fanfare - ECPv6.15.3//NONSGML v1.0//EN
CALSCALE:GREGORIAN
METHOD:PUBLISH
X-WR-CALNAME:Fanfare
X-ORIGINAL-URL:https://fanfareband.com
X-WR-CALDESC:Events for Fanfare
REFRESH-INTERVAL;VALUE=DURATION:PT1H
X-Robots-Tag:noindex
X-PUBLISHED-TTL:PT1H
BEGIN:VTIMEZONE
TZID:America/Chicago
BEGIN:DAYLIGHT
TZOFFSETFROM:-0600
TZOFFSETTO:-0500
TZNAME:CDT
DTSTART:20240310T080000
END:DAYLIGHT
BEGIN:STANDARD
TZOFFSETFROM:-0500
TZOFFSETTO:-0600
TZNAME:CST
DTSTART:20241103T070000
END:STANDARD
END:VTIMEZONE
BEGIN:VEVENT
DTSTART;TZID=America/Chicago:20240901T180000
DTEND;TZID=America/Chicago:20240901T200000
DTSTAMP:20260425T152517
CREATED:20240614T174633Z
LAST-MODIFIED:20240614T174633Z
UID:4722-1725213600-1725220800@fanfareband.com
SUMMARY:6200 Delor Street Block Party
DESCRIPTION:6200 Delor Street Block Party
URL:https://fanfareband.com/event/6200-delor-street-block-party-2/
LOCATION:6200 Delor Street\, St. Louis\, MO\, 63109\, United States
END:VEVENT
BEGIN:VEVENT
DTSTART;TZID=America/Chicago:20240902T140000
DTEND;TZID=America/Chicago:20240902T153000
DTSTAMP:20260425T152517
CREATED:20240703T160847Z
LAST-MODIFIED:20240703T160847Z
UID:4736-1725285600-1725291000@fanfareband.com
SUMMARY:The Gatesworth
DESCRIPTION:Labor Day Concert
URL:https://fanfareband.com/event/the-gatesworth-33/
LOCATION:The Gatesworth
END:VEVENT
BEGIN:VEVENT
DTSTART;TZID=America/Chicago:20240907T190000
DTEND;TZID=America/Chicago:20240907T220000
DTSTAMP:20260425T152517
CREATED:20240715T210110Z
LAST-MODIFIED:20240715T210110Z
UID:4758-1725735600-1725746400@fanfareband.com
SUMMARY:Lake St. Louis Windjammer
DESCRIPTION:Windjammer Concert
URL:https://fanfareband.com/event/lake-st-louis-windjammer-2/
LOCATION:Lake St. Louis Windjammer Park\, Lake St. Louis\, MO\, United States
END:VEVENT
BEGIN:VEVENT
DTSTART;TZID=America/Chicago:20240914T130000
DTEND;TZID=America/Chicago:20240914T170000
DTSTAMP:20260425T152517
CREATED:20240715T210216Z
LAST-MODIFIED:20240715T210216Z
UID:4760-1726318800-1726333200@fanfareband.com
SUMMARY:Balducci's Vineyards
DESCRIPTION:Wine Time
URL:https://fanfareband.com/event/balduccis-vineyards-33/
LOCATION:Balducci Vineyards\, 6601 Missouri 94\, Augusta\, 63332
END:VEVENT
BEGIN:VEVENT
DTSTART;TZID=America/Chicago:20240915T130000
DTEND;TZID=America/Chicago:20240915T170000
DTSTAMP:20260425T152517
CREATED:20240122T210844Z
LAST-MODIFIED:20240122T210844Z
UID:4587-1726405200-1726419600@fanfareband.com
SUMMARY:Montelle Winery
DESCRIPTION:September Wine Time(DT)
URL:https://fanfareband.com/event/montelle-winery-20/
LOCATION:Montelle Winery\, 201 Montelle Dr.\, Augusta\, MO\, 63332\, United States
END:VEVENT
BEGIN:VEVENT
DTSTART;TZID=America/Chicago:20240921T130000
DTEND;TZID=America/Chicago:20240921T160000
DTSTAMP:20260425T152517
CREATED:20240309T205443Z
LAST-MODIFIED:20240309T205443Z
UID:4654-1726923600-1726934400@fanfareband.com
SUMMARY:Montelle Winery
DESCRIPTION:Wine Time
URL:https://fanfareband.com/event/montelle-winery-22/
LOCATION:Montelle Winery\, 201 Montelle Dr.\, Augusta\, MO\, 63332\, United States
END:VEVENT
BEGIN:VEVENT
DTSTART;TZID=America/Chicago:20240924T160000
DTEND;TZID=America/Chicago:20240924T190000
DTSTAMP:20260425T152517
CREATED:20240808T011630Z
LAST-MODIFIED:20240808T011630Z
UID:4769-1727193600-1727204400@fanfareband.com
SUMMARY:Client Appreciation Party
DESCRIPTION:Mission Financial Clients
URL:https://fanfareband.com/event/client-appreciation-party/
LOCATION:Veterans Tribute Park\, 1031 Kisker Rd.\, Weldon Spring\, MO\, 63304\, United States
END:VEVENT
BEGIN:VEVENT
DTSTART;TZID=America/Chicago:20240927T170000
DTEND;TZID=America/Chicago:20240927T190000
DTSTAMP:20260425T152517
CREATED:20240705T203055Z
LAST-MODIFIED:20240705T203055Z
UID:4740-1727456400-1727463600@fanfareband.com
SUMMARY:Augusta Winery
DESCRIPTION:Wine Time!
URL:https://fanfareband.com/event/augusta-winery-7/
LOCATION:Augusta Winery\, 5601 High Street\, Augusta\, MO\, 63332\, United States
END:VEVENT
BEGIN:VEVENT
DTSTART;TZID=America/Chicago:20240928T130000
DTEND;TZID=America/Chicago:20240928T170000
DTSTAMP:20260425T152517
CREATED:20240122T211007Z
LAST-MODIFIED:20240122T211007Z
UID:4589-1727528400-1727542800@fanfareband.com
SUMMARY:Balducci's Vineyard
DESCRIPTION:Wine Pizza & Fanfare(DT)
URL:https://fanfareband.com/event/balduccis-vineyard/
LOCATION:Balducci Vineyards\, 6601 Missouri 94\, Augusta\, 63332
END:VEVENT
END:VCALENDAR