BEGIN:VCALENDAR
VERSION:2.0
PRODID:-//Fanfare - ECPv6.15.3//NONSGML v1.0//EN
CALSCALE:GREGORIAN
METHOD:PUBLISH
X-WR-CALNAME:Fanfare
X-ORIGINAL-URL:https://fanfareband.com
X-WR-CALDESC:Events for Fanfare
REFRESH-INTERVAL;VALUE=DURATION:PT1H
X-Robots-Tag:noindex
X-PUBLISHED-TTL:PT1H
BEGIN:VTIMEZONE
TZID:America/Chicago
BEGIN:DAYLIGHT
TZOFFSETFROM:-0600
TZOFFSETTO:-0500
TZNAME:CDT
DTSTART:20240310T080000
END:DAYLIGHT
BEGIN:STANDARD
TZOFFSETFROM:-0500
TZOFFSETTO:-0600
TZNAME:CST
DTSTART:20241103T070000
END:STANDARD
END:VTIMEZONE
BEGIN:VEVENT
DTSTART;TZID=America/Chicago:20240802T193000
DTEND;TZID=America/Chicago:20240802T203000
DTSTAMP:20260425T165628
CREATED:20240413T144130Z
LAST-MODIFIED:20240413T144130Z
UID:4680-1722627000-1722630600@fanfareband.com
SUMMARY:The Gatesworth
DESCRIPTION:Concert(MS)
URL:https://fanfareband.com/event/the-gatesworth-32/
LOCATION:The Gatesworth
END:VEVENT
BEGIN:VEVENT
DTSTART;TZID=America/Chicago:20240803T193000
DTEND;TZID=America/Chicago:20240803T220000
DTSTAMP:20260425T165628
CREATED:20240122T210451Z
LAST-MODIFIED:20240122T210451Z
UID:4581-1722713400-1722722400@fanfareband.com
SUMMARY:Innsbrook
DESCRIPTION:Concert for Innsbrook(DT)
URL:https://fanfareband.com/event/innsbrook-2/
LOCATION:Innsbrook Conference Center\, 1 Aspen Circle\, Innsbrook\, MO\, 63390\, United States
END:VEVENT
BEGIN:VEVENT
DTSTART;TZID=America/Chicago:20240809T190000
DTEND;TZID=America/Chicago:20240809T213000
DTSTAMP:20260425T165628
CREATED:20240212T223058Z
LAST-MODIFIED:20240212T223058Z
UID:4630-1723230000-1723239000@fanfareband.com
SUMMARY:Grants Farm
DESCRIPTION:Drone Show and Fun(MS)
URL:https://fanfareband.com/event/grants-farm-9/
LOCATION:Grants Fram\, 10501 Gravois\, St. Louis\, MO\, United States
END:VEVENT
BEGIN:VEVENT
DTSTART;TZID=America/Chicago:20240811T130000
DTEND;TZID=America/Chicago:20240811T170000
DTSTAMP:20260425T165628
CREATED:20240122T210556Z
LAST-MODIFIED:20240122T210556Z
UID:4583-1723381200-1723395600@fanfareband.com
SUMMARY:Montelle Winery
DESCRIPTION:Wine Time(DT)
URL:https://fanfareband.com/event/montelle-winery-19/
LOCATION:Montelle Winery\, 201 Montelle Dr.\, Augusta\, MO\, 63332\, United States
END:VEVENT
BEGIN:VEVENT
DTSTART;TZID=America/Chicago:20240816T190000
DTEND;TZID=America/Chicago:20240816T223000
DTSTAMP:20260425T165628
CREATED:20240122T210718Z
LAST-MODIFIED:20240122T210718Z
UID:4585-1723834800-1723847400@fanfareband.com
SUMMARY:Shriners Swing Dance
DESCRIPTION:Moolah Shrine Open Dance(MS)
URL:https://fanfareband.com/event/shriners-swing-dance/
LOCATION:Moolah Shrine Center\, 12545 Fee Fee Road\, St. Louis\, MO\, 63146\, United States
END:VEVENT
BEGIN:VEVENT
DTSTART;TZID=America/Chicago:20240817T183000
DTEND;TZID=America/Chicago:20240817T213000
DTSTAMP:20260425T165628
CREATED:20240614T174448Z
LAST-MODIFIED:20240614T174448Z
UID:4719-1723919400-1723930200@fanfareband.com
SUMMARY:Private Party
DESCRIPTION:Retirement Party
URL:https://fanfareband.com/event/private-party-197/
LOCATION:Amvets Post 106\, 260 Brown Rd.\, St. Peter's\, MO\, 63376\, United States
END:VEVENT
BEGIN:VEVENT
DTSTART;TZID=America/Chicago:20240824T140000
DTEND;TZID=America/Chicago:20240824T170000
DTSTAMP:20260425T165628
CREATED:20240501T003422Z
LAST-MODIFIED:20240501T003422Z
UID:4694-1724508000-1724518800@fanfareband.com
SUMMARY:Triple 3 Vineyards
DESCRIPTION:Wine Time(MS)
URL:https://fanfareband.com/event/triple-3-vineyards/
LOCATION:Triple 3 Winery
END:VEVENT
BEGIN:VEVENT
DTSTART;TZID=America/Chicago:20240825T180000
DTEND;TZID=America/Chicago:20240825T210000
DTSTAMP:20260425T165628
CREATED:20240715T205610Z
LAST-MODIFIED:20240715T205610Z
UID:4753-1724608800-1724619600@fanfareband.com
SUMMARY:Delmar Gardens West
DESCRIPTION:Labor Day Event
URL:https://fanfareband.com/event/delmar-gardens-west/
LOCATION:Delmar Gardens West Villa’s\, St. Louis\, MO\, United States
END:VEVENT
BEGIN:VEVENT
DTSTART;TZID=America/Chicago:20240831T180000
DTEND;TZID=America/Chicago:20240831T210000
DTSTAMP:20260425T165628
CREATED:20240715T205937Z
LAST-MODIFIED:20240715T205937Z
UID:4755-1725127200-1725138000@fanfareband.com
SUMMARY:Private Party
DESCRIPTION:40th Wedding Anniversary Party
URL:https://fanfareband.com/event/private-party-198/
LOCATION:4 Hands Brewery\, 1220 S. 8th Street\, St. Louis\, MO\, United States
END:VEVENT
END:VCALENDAR