BEGIN:VCALENDAR
VERSION:2.0
PRODID:-//Fanfare - ECPv6.15.3//NONSGML v1.0//EN
CALSCALE:GREGORIAN
METHOD:PUBLISH
X-ORIGINAL-URL:https://fanfareband.com
X-WR-CALDESC:Events for Fanfare
REFRESH-INTERVAL;VALUE=DURATION:PT1H
X-Robots-Tag:noindex
X-PUBLISHED-TTL:PT1H
BEGIN:VTIMEZONE
TZID:America/Chicago
BEGIN:DAYLIGHT
TZOFFSETFROM:-0600
TZOFFSETTO:-0500
TZNAME:CDT
DTSTART:20240310T080000
END:DAYLIGHT
BEGIN:STANDARD
TZOFFSETFROM:-0500
TZOFFSETTO:-0600
TZNAME:CST
DTSTART:20241103T070000
END:STANDARD
END:VTIMEZONE
BEGIN:VEVENT
DTSTART;TZID=America/Chicago:20240702T181500
DTEND;TZID=America/Chicago:20240702T201500
DTSTAMP:20260425T182452
CREATED:20240607T141747Z
LAST-MODIFIED:20240607T141747Z
UID:4716-1719944100-1719951300@fanfareband.com
SUMMARY:Scenic View
DESCRIPTION:July 4th Celebration
URL:https://fanfareband.com/event/scenic-view-2/
LOCATION:Scenic Nursing & Rehabilitation Center\, 1333 Scenic Dr.\, Herculaneum\, MO\, 63048\, United States
END:VEVENT
BEGIN:VEVENT
DTSTART;TZID=America/Chicago:20240704T190000
DTEND;TZID=America/Chicago:20240704T210000
DTSTAMP:20260425T182452
CREATED:20240215T014647Z
LAST-MODIFIED:20240215T014647Z
UID:4640-1720119600-1720126800@fanfareband.com
SUMMARY:Kirkwood Park July 4th Celebration
DESCRIPTION:Kirkwood Park Concert Fanfare Expanded Band(MS)
URL:https://fanfareband.com/event/kirkwood-park-july-4th-celebration-2/
LOCATION:Kirkwood Park\, 111 S. Geyer Rd.\, Kirkwood\, MO\, 63122\, United States
END:VEVENT
BEGIN:VEVENT
DTSTART;TZID=America/Chicago:20240705T190000
DTEND;TZID=America/Chicago:20240705T220000
DTSTAMP:20260425T182452
CREATED:20240327T213544Z
LAST-MODIFIED:20240327T213544Z
UID:4666-1720206000-1720216800@fanfareband.com
SUMMARY:Private Party
DESCRIPTION:Pool Party(DT)
URL:https://fanfareband.com/event/private-party-196/
LOCATION:Castle Bluff Golf Club\, 8100 Fine Rd.\, St. Louis\, MO\, 63129\, United States
END:VEVENT
BEGIN:VEVENT
DTSTART;TZID=America/Chicago:20240706T130000
DTEND;TZID=America/Chicago:20240706T170000
DTSTAMP:20260425T182452
CREATED:20240121T180134Z
LAST-MODIFIED:20240121T180134Z
UID:4574-1720270800-1720285200@fanfareband.com
SUMMARY:Balducci's Vineyards
DESCRIPTION:Wine Food & Fanfare(MS)
URL:https://fanfareband.com/event/balduccis-vineyards-31/
LOCATION:Balducci Vineyards\, 6601 Missouri 94\, Augusta\, 63332
END:VEVENT
BEGIN:VEVENT
DTSTART;TZID=America/Chicago:20240710T190000
DTEND;TZID=America/Chicago:20240710T210000
DTSTAMP:20260425T182452
CREATED:20240121T180435Z
LAST-MODIFIED:20240121T180435Z
UID:4576-1720638000-1720645200@fanfareband.com
SUMMARY:Ballwin Parks
DESCRIPTION:Park Concert(DT)
URL:https://fanfareband.com/event/ballwin-parks/
LOCATION:New Ballwin Park\, Ballwin\, MO\, United States
END:VEVENT
BEGIN:VEVENT
DTSTART;TZID=America/Chicago:20240713T130000
DTEND;TZID=America/Chicago:20240713T160000
DTSTAMP:20260425T182452
CREATED:20240705T202956Z
LAST-MODIFIED:20240705T202956Z
UID:4738-1720875600-1720886400@fanfareband.com
SUMMARY:Augusta Winery
DESCRIPTION:Wine Time in Augusta.
URL:https://fanfareband.com/event/augusta-winery-6/
LOCATION:Augusta Winery\, 5601 High Street\, Augusta\, MO\, 63332\, United States
END:VEVENT
BEGIN:VEVENT
DTSTART;TZID=America/Chicago:20240714T180000
DTEND;TZID=America/Chicago:20240714T200000
DTSTAMP:20260425T182452
CREATED:20240121T180607Z
LAST-MODIFIED:20240121T180607Z
UID:4579-1720980000-1720987200@fanfareband.com
SUMMARY:Columbia IL Park Concert
DESCRIPTION:Metter Park Concert(DT)
URL:https://fanfareband.com/event/columbia-il-park-concert-5/
LOCATION:Metter Park\, Columbia\, IL\, United States
END:VEVENT
BEGIN:VEVENT
DTSTART;TZID=America/Chicago:20240716T180000
DTEND;TZID=America/Chicago:20240716T200000
DTSTAMP:20260425T182452
CREATED:20240413T144023Z
LAST-MODIFIED:20240413T144023Z
UID:4678-1721152800-1721160000@fanfareband.com
SUMMARY:Cape Albeon
DESCRIPTION:Concert(MS)
URL:https://fanfareband.com/event/cape-albeon-4/
LOCATION:Cape Albeon\, 3380 Lake Bend Dr.\, Valley Park\, MO\, 63088\, United States
END:VEVENT
BEGIN:VEVENT
DTSTART;TZID=America/Chicago:20240720T120000
DTEND;TZID=America/Chicago:20240720T150000
DTSTAMP:20260425T182452
CREATED:20240624T164601Z
LAST-MODIFIED:20240624T164601Z
UID:4725-1721476800-1721487600@fanfareband.com
SUMMARY:Montelle Winery
DESCRIPTION:Wine Time
URL:https://fanfareband.com/event/montelle-winery-23/
LOCATION:Montelle Winery\, 201 Montelle Dr.\, Augusta\, MO\, 63332\, United States
END:VEVENT
BEGIN:VEVENT
DTSTART;TZID=America/Chicago:20240721T140000
DTEND;TZID=America/Chicago:20240721T180000
DTSTAMP:20260425T182452
CREATED:20240624T164736Z
LAST-MODIFIED:20240624T164736Z
UID:4727-1721570400-1721584800@fanfareband.com
SUMMARY:Grafton Winery
DESCRIPTION:Mississippi River and Wine and Good Food
URL:https://fanfareband.com/event/grafton-winery-5/
LOCATION:Grafton Winery\, Grafton\, IL\, United States
END:VEVENT
END:VCALENDAR