BEGIN:VCALENDAR
VERSION:2.0
PRODID:-//Fanfare - ECPv6.15.3//NONSGML v1.0//EN
CALSCALE:GREGORIAN
METHOD:PUBLISH
X-ORIGINAL-URL:https://fanfareband.com
X-WR-CALDESC:Events for Fanfare
REFRESH-INTERVAL;VALUE=DURATION:PT1H
X-Robots-Tag:noindex
X-PUBLISHED-TTL:PT1H
BEGIN:VTIMEZONE
TZID:America/Chicago
BEGIN:DAYLIGHT
TZOFFSETFROM:-0600
TZOFFSETTO:-0500
TZNAME:CDT
DTSTART:20240310T080000
END:DAYLIGHT
BEGIN:STANDARD
TZOFFSETFROM:-0500
TZOFFSETTO:-0600
TZNAME:CST
DTSTART:20241103T070000
END:STANDARD
END:VTIMEZONE
BEGIN:VEVENT
DTSTART;TZID=America/Chicago:20240601T110000
DTEND;TZID=America/Chicago:20240601T120000
DTSTAMP:20260425T200238
CREATED:20240215T014121Z
LAST-MODIFIED:20240215T014121Z
UID:4634-1717239600-1717243200@fanfareband.com
SUMMARY:Confluence Music Festival
DESCRIPTION:World Wide Technology Racetrack(MS)
URL:https://fanfareband.com/event/confluence-music-festival/
LOCATION:World Wide Technology Race Way\, Madison\, IL\, United States
END:VEVENT
BEGIN:VEVENT
DTSTART;TZID=America/Chicago:20240602T133000
DTEND;TZID=America/Chicago:20240602T160000
DTSTAMP:20260425T200238
CREATED:20240427T142134Z
LAST-MODIFIED:20240427T142134Z
UID:4686-1717335000-1717344000@fanfareband.com
SUMMARY:20th Anniversary Party
DESCRIPTION:Parc Provence Retirement Center
URL:https://fanfareband.com/event/20th-anniversary-party/
LOCATION:Parc Provence\, St. Louis\, MO\, United States
END:VEVENT
BEGIN:VEVENT
DTSTART;TZID=America/Chicago:20240603T113000
DTEND;TZID=America/Chicago:20240603T123000
DTSTAMP:20260425T200238
CREATED:20240119T170056Z
LAST-MODIFIED:20240327T214049Z
UID:4560-1717414200-1717417800@fanfareband.com
SUMMARY:St. Louis City Garden Concert
DESCRIPTION:Downtown City Garden Concert(JM)
URL:https://fanfareband.com/event/st-louis-city-garden-concert/
LOCATION:City Garden\, Downtown\, St. Louis\, MO\, United States
END:VEVENT
BEGIN:VEVENT
DTSTART;TZID=America/Chicago:20240604T123000
DTEND;TZID=America/Chicago:20240604T133000
DTSTAMP:20260425T200238
CREATED:20240119T170225Z
LAST-MODIFIED:20240327T214119Z
UID:4562-1717504200-1717507800@fanfareband.com
SUMMARY:Baue Seniors Event
DESCRIPTION:Seniors Dance and Lunch(JM)
URL:https://fanfareband.com/event/baue-seniors-event-2/
LOCATION:The Christy of O’Fallon\, 9000 Veterans Memorial Pkwy\, O'Fallon\, MO\, United States
END:VEVENT
BEGIN:VEVENT
DTSTART;TZID=America/Chicago:20240608T180000
DTEND;TZID=America/Chicago:20240608T220000
DTSTAMP:20260425T200238
CREATED:20240119T170344Z
LAST-MODIFIED:20240119T170344Z
UID:4564-1717869600-1717884000@fanfareband.com
SUMMARY:All Saints Catholic Church
DESCRIPTION:Church Picnic(DT)
URL:https://fanfareband.com/event/all-saints-catholic-church/
LOCATION:All Saints Church\, 7 McMenamy Road\, St. Peters\, MO\, 63376\, United States
END:VEVENT
BEGIN:VEVENT
DTSTART;TZID=America/Chicago:20240609T130000
DTEND;TZID=America/Chicago:20240609T170000
DTSTAMP:20260425T200238
CREATED:20240119T170445Z
LAST-MODIFIED:20240119T170445Z
UID:4566-1717938000-1717952400@fanfareband.com
SUMMARY:Montelle Winery
DESCRIPTION:Wine Time(DT)
URL:https://fanfareband.com/event/montelle-winery-18/
LOCATION:Montelle Winery\, 201 Montelle Dr.\, Augusta\, MO\, 63332\, United States
END:VEVENT
BEGIN:VEVENT
DTSTART;TZID=America/Chicago:20240614T180000
DTEND;TZID=America/Chicago:20240614T200000
DTSTAMP:20260425T200238
CREATED:20240215T014243Z
LAST-MODIFIED:20240215T014243Z
UID:4636-1718388000-1718395200@fanfareband.com
SUMMARY:Mid-Rivers Mall
DESCRIPTION:Dancing in the Mall(MS)
URL:https://fanfareband.com/event/mid-rivers-mall-5/
LOCATION:Mid-Rivers Mall\, St. Peter's\, MO\, United States
END:VEVENT
BEGIN:VEVENT
DTSTART;TZID=America/Chicago:20240615T190000
DTEND;TZID=America/Chicago:20240615T203000
DTSTAMP:20260425T200238
CREATED:20240119T170728Z
LAST-MODIFIED:20240119T170728Z
UID:4568-1718478000-1718483400@fanfareband.com
SUMMARY:Ascension Lutheran Church
DESCRIPTION:Concert on Church Grounds open to everyone.(MS)
URL:https://fanfareband.com/event/ascension-lutheran-church/
LOCATION:Ascension Lutheran Church\, 5347 Dovonvan\, St. Louis\, MO\, 63109\, United States
END:VEVENT
BEGIN:VEVENT
DTSTART;TZID=America/Chicago:20240616T140000
DTEND;TZID=America/Chicago:20240616T170000
DTSTAMP:20260425T200238
CREATED:20240119T170905Z
LAST-MODIFIED:20240119T170905Z
UID:4570-1718546400-1718557200@fanfareband.com
SUMMARY:Triple 3 Winery
DESCRIPTION:Beautiful site\, good food and wine and Fanfare(MS)
URL:https://fanfareband.com/event/triple-3-winery-5/
LOCATION:Triple 3 Winery
END:VEVENT
BEGIN:VEVENT
DTSTART;TZID=America/Chicago:20240622T190000
DTEND;TZID=America/Chicago:20240622T220000
DTSTAMP:20260425T200238
CREATED:20240215T014401Z
LAST-MODIFIED:20240215T014401Z
UID:4638-1719082800-1719093600@fanfareband.com
SUMMARY:Private Party
DESCRIPTION:Castle Bluff Golf Club(DT)
URL:https://fanfareband.com/event/private-party-194/
LOCATION:Castle Bluff Golf Club\, 8100 Fine Rd.\, St. Louis\, MO\, 63129\, United States
END:VEVENT
BEGIN:VEVENT
DTSTART;TZID=America/Chicago:20240623T140000
DTEND;TZID=America/Chicago:20240623T180000
DTSTAMP:20260425T200238
CREATED:20240119T171018Z
LAST-MODIFIED:20240119T171018Z
UID:4572-1719151200-1719165600@fanfareband.com
SUMMARY:Grafton Winery
DESCRIPTION:On the River in Grafton IL(DT)
URL:https://fanfareband.com/event/grafton-winery-4/
LOCATION:Grafton Winery\, Grafton\, IL\, United States
END:VEVENT
BEGIN:VEVENT
DTSTART;TZID=America/Chicago:20240627T183000
DTEND;TZID=America/Chicago:20240627T210000
DTSTAMP:20260425T200238
CREATED:20240327T212829Z
LAST-MODIFIED:20240327T212829Z
UID:4662-1719513000-1719522000@fanfareband.com
SUMMARY:Delmar Gardens North
DESCRIPTION:July 4th Celebration(MS)
URL:https://fanfareband.com/event/delmar-gardens-north/
LOCATION:Delmar Gardens North Villa’s\, St. Louis\, MO\, United States
END:VEVENT
BEGIN:VEVENT
DTSTART;TZID=America/Chicago:20240628T190000
DTEND;TZID=America/Chicago:20240628T223000
DTSTAMP:20260425T200238
CREATED:20240423T154805Z
LAST-MODIFIED:20240423T154805Z
UID:4684-1719601200-1719613800@fanfareband.com
SUMMARY:Dance For The Kids
DESCRIPTION:Shriners(MS)
URL:https://fanfareband.com/event/dance-for-the-kids/
LOCATION:Moolah Shrine Center\, 12545 Fee Fee Road\, St. Louis\, MO\, 63146\, United States
END:VEVENT
END:VCALENDAR