BEGIN:VCALENDAR
VERSION:2.0
PRODID:-//Fanfare - ECPv6.15.3//NONSGML v1.0//EN
CALSCALE:GREGORIAN
METHOD:PUBLISH
X-WR-CALNAME:Fanfare
X-ORIGINAL-URL:https://fanfareband.com
X-WR-CALDESC:Events for Fanfare
REFRESH-INTERVAL;VALUE=DURATION:PT1H
X-Robots-Tag:noindex
X-PUBLISHED-TTL:PT1H
BEGIN:VTIMEZONE
TZID:America/Chicago
BEGIN:DAYLIGHT
TZOFFSETFROM:-0600
TZOFFSETTO:-0500
TZNAME:CDT
DTSTART:20240310T080000
END:DAYLIGHT
BEGIN:STANDARD
TZOFFSETFROM:-0500
TZOFFSETTO:-0600
TZNAME:CST
DTSTART:20241103T070000
END:STANDARD
END:VTIMEZONE
BEGIN:VEVENT
DTSTART;TZID=America/Chicago:20240503T183000
DTEND;TZID=America/Chicago:20240503T213000
DTSTAMP:20260425T214121
CREATED:20240116T171349Z
LAST-MODIFIED:20240116T171349Z
UID:4533-1714761000-1714771800@fanfareband.com
SUMMARY:Union MO Park Concert
DESCRIPTION:City Park in Union MO(MS)
URL:https://fanfareband.com/event/union-mo-park-concert-2/
LOCATION:City Park of Union MO\, Union\, MO\, 63084\, United States
END:VEVENT
BEGIN:VEVENT
DTSTART;TZID=America/Chicago:20240504T120000
DTEND;TZID=America/Chicago:20240504T150000
DTSTAMP:20260425T214121
CREATED:20240313T170329Z
LAST-MODIFIED:20240317T142104Z
UID:4656-1714824000-1714834800@fanfareband.com
SUMMARY:Valley of the Flowers Festival
DESCRIPTION:Concert for Festival(MS)
URL:https://fanfareband.com/event/valley-of-the-flowers-festival/
LOCATION:Florissant Eagan Center\, Florissant \, MO\, United States
END:VEVENT
BEGIN:VEVENT
DTSTART;TZID=America/Chicago:20240505T140000
DTEND;TZID=America/Chicago:20240505T170000
DTSTAMP:20260425T214121
CREATED:20240117T211636Z
LAST-MODIFIED:20240117T211636Z
UID:4535-1714917600-1714928400@fanfareband.com
SUMMARY:Triple 3 Winery
DESCRIPTION:Wine Time(MS)
URL:https://fanfareband.com/event/triple-3-winery-4/
LOCATION:Triple 3 Winery
END:VEVENT
BEGIN:VEVENT
DTSTART;TZID=America/Chicago:20240510T190000
DTEND;TZID=America/Chicago:20240510T223000
DTSTAMP:20260425T214121
CREATED:20240117T211809Z
LAST-MODIFIED:20240117T211809Z
UID:4537-1715367600-1715380200@fanfareband.com
SUMMARY:Shriners
DESCRIPTION:Open Dance(DT)
URL:https://fanfareband.com/event/shriners-8/
LOCATION:Moolah Shrine Center\, 12545 Fee Fee Road\, St. Louis\, MO\, 63146\, United States
END:VEVENT
BEGIN:VEVENT
DTSTART;TZID=America/Chicago:20240512T130000
DTEND;TZID=America/Chicago:20240512T170000
DTSTAMP:20260425T214121
CREATED:20240117T211932Z
LAST-MODIFIED:20240117T211932Z
UID:4539-1715518800-1715533200@fanfareband.com
SUMMARY:Montelle Winery
DESCRIPTION:Beautiful View(MS)
URL:https://fanfareband.com/event/montelle-winery-17/
LOCATION:Montelle Winery\, 201 Montelle Dr.\, Augusta\, MO\, 63332\, United States
END:VEVENT
BEGIN:VEVENT
DTSTART;TZID=America/Chicago:20240514T180000
DTEND;TZID=America/Chicago:20240514T200000
DTSTAMP:20260425T214121
CREATED:20240413T143901Z
LAST-MODIFIED:20240413T143901Z
UID:4676-1715709600-1715716800@fanfareband.com
SUMMARY:Scenic View Rehab Center
DESCRIPTION:Concert for Nursing Home Week(MS)
URL:https://fanfareband.com/event/scenic-view-rehab-center-2/
LOCATION:Scenic Nursing & Rehabilitation Center\, 1333 Scenic Dr.\, Herculaneum\, MO\, 63048\, United States
END:VEVENT
BEGIN:VEVENT
DTSTART;TZID=America/Chicago:20240517T080000
DTEND;TZID=America/Chicago:20240517T170000
DTSTAMP:20260425T214121
CREATED:20240117T212301Z
LAST-MODIFIED:20240117T212301Z
UID:4541-1715932800-1715965200@fanfareband.com
SUMMARY:Art on the Square
DESCRIPTION:Wine Court(MS)
URL:https://fanfareband.com/event/art-on-the-square/
LOCATION:Art on the Square\, Downtown Square\, Belleville\, IL\, 62261\, United States
END:VEVENT
BEGIN:VEVENT
DTSTART;TZID=America/Chicago:20240518T080000
DTEND;TZID=America/Chicago:20240518T170000
DTSTAMP:20260425T214121
CREATED:20240117T212453Z
LAST-MODIFIED:20240117T212453Z
UID:4544-1716019200-1716051600@fanfareband.com
SUMMARY:Balducci's Vineyards
DESCRIPTION:Good food and Wine(MS)
URL:https://fanfareband.com/event/balduccis-vineyards-30/
LOCATION:MO
END:VEVENT
BEGIN:VEVENT
DTSTART;TZID=America/Chicago:20240525T130000
DTEND;TZID=America/Chicago:20240525T160000
DTSTAMP:20260425T214121
CREATED:20240126T164055Z
LAST-MODIFIED:20240126T164055Z
UID:4613-1716642000-1716652800@fanfareband.com
SUMMARY:Cedar Lake Cellars
DESCRIPTION:May Wine Time(MS)
URL:https://fanfareband.com/event/cedar-lake-cellars-22/
LOCATION:Cedar Lake Cellars\, 11008 Schreckengast Rd.\, Wright City\, MO\, 63390\, United States
END:VEVENT
BEGIN:VEVENT
DTSTART;TZID=America/Chicago:20240526T190000
DTEND;TZID=America/Chicago:20240526T213000
DTSTAMP:20260425T214121
CREATED:20240212T222932Z
LAST-MODIFIED:20240212T222932Z
UID:4628-1716750000-1716759000@fanfareband.com
SUMMARY:Grants Farm
DESCRIPTION:Music\, Food\, Animals Drone Show(MS)
URL:https://fanfareband.com/event/grants-farm-8/
LOCATION:Grants Fram\, 10501 Gravois\, St. Louis\, MO\, United States
END:VEVENT
BEGIN:VEVENT
DTSTART;TZID=America/Chicago:20240527T130000
DTEND;TZID=America/Chicago:20240527T170000
DTSTAMP:20260425T214121
CREATED:20240117T212613Z
LAST-MODIFIED:20240117T212613Z
UID:4546-1716814800-1716829200@fanfareband.com
SUMMARY:Grafton Winery
DESCRIPTION:Grafton by the River(MS)
URL:https://fanfareband.com/event/grafton-winery-3/
LOCATION:Grafton Winery\, Grafton\, IL\, United States
END:VEVENT
BEGIN:VEVENT
DTSTART;TZID=America/Chicago:20240528T170000
DTEND;TZID=America/Chicago:20240528T200000
DTSTAMP:20260425T214121
CREATED:20240117T212756Z
LAST-MODIFIED:20240117T212756Z
UID:4548-1716915600-1716926400@fanfareband.com
SUMMARY:Park Concert in Hazelwood MO
DESCRIPTION:Howdershell Park(DT)
URL:https://fanfareband.com/event/park-concert-in-hazelwood-mo/
LOCATION:Howdershell Park\, Hazelwood\, MO\, United States
END:VEVENT
END:VCALENDAR