BEGIN:VCALENDAR
VERSION:2.0
PRODID:-//Fanfare - ECPv6.15.3//NONSGML v1.0//EN
CALSCALE:GREGORIAN
METHOD:PUBLISH
X-WR-CALNAME:Fanfare
X-ORIGINAL-URL:https://fanfareband.com
X-WR-CALDESC:Events for Fanfare
REFRESH-INTERVAL;VALUE=DURATION:PT1H
X-Robots-Tag:noindex
X-PUBLISHED-TTL:PT1H
BEGIN:VTIMEZONE
TZID:America/Chicago
BEGIN:DAYLIGHT
TZOFFSETFROM:-0600
TZOFFSETTO:-0500
TZNAME:CDT
DTSTART:20240310T080000
END:DAYLIGHT
BEGIN:STANDARD
TZOFFSETFROM:-0500
TZOFFSETTO:-0600
TZNAME:CST
DTSTART:20241103T070000
END:STANDARD
END:VTIMEZONE
BEGIN:VEVENT
DTSTART;TZID=America/Chicago:20240406T180000
DTEND;TZID=America/Chicago:20240406T210000
DTSTAMP:20260425T231605
CREATED:20240126T165242Z
LAST-MODIFIED:20240126T165242Z
UID:4619-1712426400-1712437200@fanfareband.com
SUMMARY:Heritage at Hawk Ridge
DESCRIPTION:Spring Dance at Community Center(MS)
URL:https://fanfareband.com/event/heritage-at-hawk-ridge/
LOCATION:Hertiage of Hawk Ridge\, 225 Pigeon Drive\, Lake St. Louis\,\, MO\, 63367\, United States
END:VEVENT
BEGIN:VEVENT
DTSTART;TZID=America/Chicago:20240413T130000
DTEND;TZID=America/Chicago:20240413T160000
DTSTAMP:20260425T231605
CREATED:20240126T163919Z
LAST-MODIFIED:20240126T163919Z
UID:4611-1713013200-1713024000@fanfareband.com
SUMMARY:Cedar Lake Cellars
DESCRIPTION:Wine Time(DT)
URL:https://fanfareband.com/event/cedar-lake-cellars-21/
LOCATION:Cedar Lake Cellars\, 11008 Schreckengast Rd.\, Wright City\, MO\, 63390\, United States
END:VEVENT
BEGIN:VEVENT
DTSTART;TZID=America/Chicago:20240420T190000
DTEND;TZID=America/Chicago:20240420T220000
DTSTAMP:20260425T231605
CREATED:20240212T222711Z
LAST-MODIFIED:20240212T222711Z
UID:4626-1713639600-1713650400@fanfareband.com
SUMMARY:Lake St. Louis Community Center
DESCRIPTION:Dance & Dinner(MS)
URL:https://fanfareband.com/event/lake-st-louis-community-center-5/
LOCATION:Lake St. Louis Community Center\, Lake St. Louis \, United States
END:VEVENT
BEGIN:VEVENT
DTSTART;TZID=America/Chicago:20240421T130000
DTEND;TZID=America/Chicago:20240421T170000
DTSTAMP:20260425T231605
CREATED:20240116T170713Z
LAST-MODIFIED:20240116T171154Z
UID:4527-1713704400-1713718800@fanfareband.com
SUMMARY:Montelle Winery
DESCRIPTION:Wine Time 2024(MS)
URL:https://fanfareband.com/event/montelle-winery-16/
LOCATION:Montelle Winery\, 201 Montelle Dr.\, Augusta\, MO\, 63332\, United States
END:VEVENT
BEGIN:VEVENT
DTSTART;TZID=America/Chicago:20240426T173000
DTEND;TZID=America/Chicago:20240426T193000
DTSTAMP:20260425T231605
CREATED:20240116T171002Z
LAST-MODIFIED:20240127T220128Z
UID:4529-1714152600-1714159800@fanfareband.com
SUMMARY:Tillman Elementary School
DESCRIPTION:Spring Fling(MS)
URL:https://fanfareband.com/event/tillman-elementary-school/
LOCATION:Tillman Elementary\, Quan\, St. Louis\, MO\, United States
END:VEVENT
END:VCALENDAR